6.603029038574832
0.000000000000000
0.000000000000000
-6.602750429754795
714377.885702553670000
4686995.478115044500000
